BEGIN:VCALENDAR
VERSION:2.0
PRODID:scsc.georgia.gov
X-WR-TIMEZONE:America/New_York
BEGIN:VTIMEZONE
TZID:America/New_York
X-LIC-LOCATION:America/New_York
END:VTIMEZONE
BEGIN:VEVENT
UID:608e69ce69c96
DTSTART;TZID=UTC:20191003T130000
SEQUENCE:0
TRANSP:OPAQUE
DTEND;TZID=UTC:20191003T200000
URL:https://scsc.georgia.gov/events/2019-10-03/petitioner-boot-camp
LOCATION:84 5th Street NW ATLANTA\, GA 30308
SUMMARY:Petitioner Boot Camp
CLASS:PUBLIC
DESCRIPTION:This training prepares potential petitioners for the SCSC chart
 er petition process. Attendees will learn what goes into a successful char
 ter petition\, with a specific focus on timeline\, legal requirements\, bo
 ard governance\, financial controls\, and budget preparation. Attendees wi
 ll also hear directly from existing SCSC schools and SCSC Staff.
DTSTAMP:20210502T045854Z
END:VEVENT
END:VCALENDAR