BEGIN:VCALENDAR
PRODID:scsc.georgia.gov
VERSION:2.0
CALSCALE:GREGORIAN
BEGIN:VEVENT
UID:825fc542a5ae75358c269d9d793cedb2
DTSTAMP:20260425T002823Z
SUMMARY:SCSC District-Collaborative Committee Meeting (Canceled)
DESCRIPTION:To access the webinar\, use the registration information above.
  Attendees may call into the meeting using the SCSC conference line. \n\n
 \n\nSCSC Conference Line (1-888-808-6929\; Access Code: 520674
URL:https://scsc.georgia.gov/events/2020-04-13/scsc-district-collaborative-
 committee-meeting-canceled
DTSTART;VALUE=DATE:20200413
X-LIC-LOCATION:America/New_York
X-WR-TIMEZONE:America/New_York
END:VEVENT
BEGIN:VTIMEZONE
TZID:America/New_York
END:VTIMEZONE
END:VCALENDAR
