BEGIN:VCALENDAR
PRODID:scsc.georgia.gov
VERSION:2.0
CALSCALE:GREGORIAN
BEGIN:VEVENT
UID:4428c766a25feac6db5e56d08b1d5a47
DTSTAMP:20260425T001001Z
SUMMARY:SCSC District-Collaborative Committee Meeting (Canceled)
URL:https://scsc.georgia.gov/events/2020-04-29/scsc-district-collaborative-
 committee-meeting-canceled
DTSTART;VALUE=DATE:20200429
X-LIC-LOCATION:America/New_York
X-WR-TIMEZONE:America/New_York
END:VEVENT
BEGIN:VTIMEZONE
TZID:America/New_York
END:VTIMEZONE
END:VCALENDAR
