BEGIN:VCALENDAR
PRODID:scsc.georgia.gov
VERSION:2.0
CALSCALE:GREGORIAN
BEGIN:VEVENT
UID:2d5b93527debf770d8f8ef99a33ee0cb
DTSTAMP:20260425T001044Z
SUMMARY:State Charter Schools Commission Board Meeting
DESCRIPTION:Pursuant to guidance regarding COVID-19 (Coronavirus)\, this me
 eting will be held via teleconference. ​​Call-In Number:  1-888-80
 8-6929\; Access Code: 5206746 \n\n\n\nMeeting materials are posted on t
 his page prior to the board meeting. Attendees follow along with the meet
 ing materials via webinar at: https://global.gotomeeting.com/join/8824314
 37\n 
URL:https://scsc.georgia.gov/events/2020-04-29/state-charter-schools-commis
 sion-board-meeting
DTSTART;VALUE=DATE:20200429
X-LIC-LOCATION:America/New_York
X-WR-TIMEZONE:America/New_York
END:VEVENT
BEGIN:VTIMEZONE
TZID:America/New_York
END:VTIMEZONE
END:VCALENDAR
