BEGIN:VCALENDAR
PRODID:scsc.georgia.gov
VERSION:2.0
CALSCALE:GREGORIAN
BEGIN:VEVENT
UID:7b2a2078cf27a65ec906c5269094a8f1
DTSTAMP:20260425T004913Z
SUMMARY:Called State Charter Schools Commission Board Meeting
DESCRIPTION:SCSC Conference Line: 1-888-808-6929\n\n\n\nAccess Code: 520674
 6
URL:https://scsc.georgia.gov/events/2020-05-21/called-state-charter-schools
 -commission-board-meeting
DTSTART;VALUE=DATE:20200521
X-LIC-LOCATION:America/New_York
X-WR-TIMEZONE:America/New_York
END:VEVENT
BEGIN:VTIMEZONE
TZID:America/New_York
END:VTIMEZONE
END:VCALENDAR
