BEGIN:VCALENDAR
VERSION:2.0
PRODID:scsc.georgia.gov
X-WR-TIMEZONE:America/New_York
BEGIN:VTIMEZONE
TZID:America/New_York
X-LIC-LOCATION:America/New_York
END:VTIMEZONE
BEGIN:VEVENT
UID:614b45d10ca34
DTSTART;TZID=UTC:20201022T190000
SEQUENCE:0
TRANSP:OPAQUE
DTEND;TZID=UTC:20201022T200000
URL:https://scsc.georgia.gov/events/2020-10-22/petitioner-webinar-series
SUMMARY:Petitioner Webinar Series 
CLASS:PUBLIC
DESCRIPTION:Petitioner Webinar Series \n\n\n\nTarget Audience: Start-up Cha
 rter Petitioners\n\n\n\nThe SCSC will offer a series of webinars following
  the petitioner boot camp to assist applicants in the petition development
  process.\n\n\nOverview of Funding and Budget Template – October 22\, 20
 20 at 3:00 p.m.  Register Here
DTSTAMP:20210922T110345Z
END:VEVENT
END:VCALENDAR