BEGIN:VCALENDAR
VERSION:2.0
PRODID:scsc.georgia.gov
X-WR-TIMEZONE:America/New_York
BEGIN:VTIMEZONE
TZID:America/New_York
X-LIC-LOCATION:America/New_York
END:VTIMEZONE
BEGIN:VEVENT
UID:614ab8f124e4a
DTSTART;TZID=UTC:20210202T133000
SEQUENCE:0
TRANSP:OPAQUE
DTEND;TZID=UTC:20210202T173000
URL:https://scsc.georgia.gov/events/2021-02-02/2020-21-scsc-governance-trai
 ning-session-2
SUMMARY:2020-21 SCSC Governance Training Session 2
CLASS:PUBLIC
DESCRIPTION:Governance Training live sessions will replace the general sess
 ions typically held at the in-person training events. Board members must p
 lan to attend these during the scheduled time in order to receive credit f
 or attending.\n\n\n\nThe remaining breakout sessions will be available as 
 pre-recorded webinars that board members can complete at their convenience
 . Additionally\, each training will have a quiz which the SCSC will use to
  verify participation. This event is for the live session on February 2\,
  2021. Please use the link below to register for the governance training a
 nd access the breakout session recordings.\n\n\nFebruary 2\, 2021 Governan
 ce Training: Register Here\nFebruary 2\, 2021 Breakout Sessions: FY21 Go
 vernance Training Breakout Session Webinars 
DTSTAMP:20210922T010241Z
END:VEVENT
END:VCALENDAR