BEGIN:VCALENDAR
VERSION:2.0
PRODID:scsc.georgia.gov
X-WR-TIMEZONE:America/New_York
BEGIN:VTIMEZONE
TZID:America/New_York
X-LIC-LOCATION:America/New_York
END:VTIMEZONE
BEGIN:VEVENT
UID:614ab8eb4ee32
DTSTART;TZID=UTC:20210326T120000
SEQUENCE:0
TRANSP:OPAQUE
DTEND;TZID=UTC:20210326T210000
URL:https://scsc.georgia.gov/events/2021-03-26/proposal-due-approved-audito
 r-program
SUMMARY:Proposal Due for Approved Auditor Program 
CLASS:PUBLIC
DTSTAMP:20210922T010235Z
END:VEVENT
END:VCALENDAR