BEGIN:VCALENDAR
VERSION:2.0
PRODID:scsc.georgia.gov
X-WR-TIMEZONE:America/New_York
BEGIN:VTIMEZONE
TZID:America/New_York
X-LIC-LOCATION:America/New_York
END:VTIMEZONE
BEGIN:VEVENT
UID:614532a6751c3
DTSTART;TZID=UTC:20210526T140000
SEQUENCE:0
TRANSP:OPAQUE
DTEND;TZID=UTC:20210526T160000
URL:https://scsc.georgia.gov/events/2021-05-26/may-board-meeting
LOCATION:205 Jesse Hill Jr. Dr SE West Tower\, 5th Floor ATLANTA\, GA 30334
SUMMARY:May Board Meeting 
CLASS:PUBLIC
DESCRIPTION:Meeting Agenda \n\n\n\nBoard meeting in-person attendance is l
 imited\, sign up in advance is required. \n\n\n\nFor in-person attendance
  sign up\, please email Erica Acha-Morfaw at Erica.achamorfaw@scsc.georg
 ia.gov.\n\n\n\nTo sign up for in-person or virtual public comment\, pleas
 e email Erica Acha-Morfaw at Erica.achamorfaw@scsc.georgia.gov
DTSTAMP:20210917T202822Z
END:VEVENT
END:VCALENDAR