BEGIN:VCALENDAR
VERSION:2.0
PRODID:scsc.georgia.gov
X-WR-TIMEZONE:America/New_York
BEGIN:VTIMEZONE
TZID:America/New_York
X-LIC-LOCATION:America/New_York
END:VTIMEZONE
BEGIN:VEVENT
UID:6145329f4ae2c
DTSTART;TZID=UTC:20210617T180000
SEQUENCE:0
TRANSP:OPAQUE
DTEND;TZID=UTC:20210617T190000
URL:https://scsc.georgia.gov/events/2021-06-17/quality-authorizing-standard
 s-info-session
SUMMARY:Quality Authorizing Standards Info Session
CLASS:PUBLIC
DTSTAMP:20210917T202815Z
END:VEVENT
END:VCALENDAR