BEGIN:VCALENDAR
VERSION:2.0
PRODID:scsc.georgia.gov
X-WR-TIMEZONE:America/New_York
BEGIN:VTIMEZONE
TZID:America/New_York
X-LIC-LOCATION:America/New_York
END:VTIMEZONE
BEGIN:VEVENT
UID:6144fa9606ef2
DTSTART;TZID=UTC:20210714T180000
SEQUENCE:0
TRANSP:OPAQUE
DTEND;TZID=UTC:20210714T200000
URL:https://scsc.georgia.gov/events/2021-07-14/july-called-meeting
LOCATION:205 Jesse Hill Jr. Dr SE West Tower\, 5th Floor ATLANTA\, GA 30334
SUMMARY:July Called Meeting 
CLASS:PUBLIC
DESCRIPTION:Meeting Agenda\n\n\n\nCalled meeting in-person attendance is pr
 ohibited. 
DTSTAMP:20210917T162910Z
END:VEVENT
END:VCALENDAR