BEGIN:VCALENDAR
VERSION:2.0
PRODID:scsc.georgia.gov
X-WR-TIMEZONE:America/New_York
BEGIN:VTIMEZONE
TZID:America/New_York
X-LIC-LOCATION:America/New_York
END:VTIMEZONE
BEGIN:VEVENT
UID:6144fa9069c86
DTSTART;TZID=UTC:20210722T130000
SEQUENCE:0
TRANSP:OPAQUE
DTEND;TZID=UTC:20210722T160000
URL:https://scsc.georgia.gov/events/2021-07-22/annual-state-charter-lea-rep
 orting-training
SUMMARY:Annual State Charter LEA Reporting Training
CLASS:PUBLIC
DTSTAMP:20210917T162904Z
END:VEVENT
END:VCALENDAR